BEGIN:VCALENDAR
VERSION:2.0
PRODID:-//BMW Car Club of America - ECPv6.15.12.2//NONSGML v1.0//EN
CALSCALE:GREGORIAN
METHOD:PUBLISH
X-WR-CALNAME:BMW Car Club of America
X-ORIGINAL-URL:https://bmwccaeverglades.org
X-WR-CALDESC:Events for BMW Car Club of America
REFRESH-INTERVAL;VALUE=DURATION:PT1H
X-Robots-Tag:noindex
X-PUBLISHED-TTL:PT1H
BEGIN:VTIMEZONE
TZID:America/New_York
BEGIN:DAYLIGHT
TZOFFSETFROM:-0500
TZOFFSETTO:-0400
TZNAME:EDT
DTSTART:20250309T070000
END:DAYLIGHT
BEGIN:STANDARD
TZOFFSETFROM:-0400
TZOFFSETTO:-0500
TZNAME:EST
DTSTART:20251102T060000
END:STANDARD
BEGIN:DAYLIGHT
TZOFFSETFROM:-0500
TZOFFSETTO:-0400
TZNAME:EDT
DTSTART:20260308T070000
END:DAYLIGHT
BEGIN:STANDARD
TZOFFSETFROM:-0400
TZOFFSETTO:-0500
TZNAME:EST
DTSTART:20261101T060000
END:STANDARD
BEGIN:DAYLIGHT
TZOFFSETFROM:-0500
TZOFFSETTO:-0400
TZNAME:EDT
DTSTART:20270314T070000
END:DAYLIGHT
BEGIN:STANDARD
TZOFFSETFROM:-0400
TZOFFSETTO:-0500
TZNAME:EST
DTSTART:20271107T060000
END:STANDARD
END:VTIMEZONE
BEGIN:VEVENT
DTSTART;TZID=America/New_York:20260409T000000
DTEND;TZID=America/New_York:20260411T000000
DTSTAMP:20260422T175841
CREATED:20260210T204442Z
LAST-MODIFIED:20260210T205342Z
UID:2871-1775692800-1775865600@bmwccaeverglades.org
SUMMARY:The Vintage
DESCRIPTION:
URL:https://bmwccaeverglades.org/event/the-vintage/
LOCATION:FL
END:VEVENT
BEGIN:VEVENT
DTSTART;VALUE=DATE:20260306
DTEND;VALUE=DATE:20260309
DTSTAMP:20260422T175841
CREATED:20260210T202927Z
LAST-MODIFIED:20260210T205428Z
UID:2869-1772755200-1773014399@bmwccaeverglades.org
SUMMARY:Exclusive BMW Anniversary Celebration @ The Amelia
DESCRIPTION:
URL:https://bmwccaeverglades.org/event/exclusive-bmw-anniversary-celebration-the-amelia/
LOCATION:FL
END:VEVENT
END:VCALENDAR